Workbook

Sheet 附表2 火炬统计企业核对
A1: 附件2
A2: 2025年度韶关高新区火炬统计纳统企业名单
A3: 序号 | B3: 统一信用代码 | C3: 企业名称 | D3: 所属园区 | E3: 填报人 | F3: 申请人信息
F4: 姓名 | G4: 银行账号 | H4: 开户行 | I4: 联系方式 | J4: 身份证号
A5: 1 | B5: 91440200MA56RU940N | C5: 广东诚顺鑫科技有限公司 | D5: 华南装备园 | E5: 黄汉凤 | F5: =VLOOKUP(B5,火炬统计企业统计人员奖励!$B$4:$E$155,5,0) -> #REF! | K5: =VLOOKUP(B5,火炬统计企业统计人员奖励!$B$4:$E$155,6,0) -> #REF! | L5: =VLOOKUP(B5,火炬统计企业统计人员奖励!$B$4:$E$155,7,0) -> #REF! | M5: =VLOOKUP(B5,火炬统计企业统计人员奖励!$B$4:$E$155,8,0) -> #REF! | N5: =VLOOKUP(B5,火炬统计企业统计人员奖励!$B$4:$E$155,9,0) -> #REF! | O5: =VLOOKUP(B5,火炬统计企业统计人员奖励!$B$4:$E$155,10,0) -> #REF! | P5: =E5=F5 -> #REF! | Q5: =VLOOKUP(B5,火炬统计企业统计人员奖励!$B$4:$E$155,3,0) -> 华南装备园 | R5: =D5=Q5 -> TRUE
A6: 2 | B6: 91440200MA53ETLY6E | C6: 广东东一钢结构有限公司 | D6: 华南装备园 | E6: 陈秀莲 | F6: =VLOOKUP(B6,火炬统计企业统计人员奖励!$B$4:$E$155,5,0) -> #REF! | K6: =VLOOKUP(B6,火炬统计企业统计人员奖励!$B$4:$E$155,6,0) -> #REF! | L6: =VLOOKUP(B6,火炬统计企业统计人员奖励!$B$4:$E$155,7,0) -> #REF! | M6: =VLOOKUP(B6,火炬统计企业统计人员奖励!$B$4:$E$155,8,0) -> #REF! | N6: =VLOOKUP(B6,火炬统计企业统计人员奖励!$B$4:$E$155,9,0) -> #REF! | O6: =VLOOKUP(B6,火炬统计企业统计人员奖励!$B$4:$E$155,10,0) -> #REF! | P6: =E6=F6 -> #REF! | Q6: =VLOOKUP(B6,火炬统计企业统计人员奖励!$B$4:$E$155,3,0) -> 华南装备园 | R6: =D6=Q6 -> TRUE
A7: 3 | B7: 91440200MA58C6371K | C7: 广东方皓金属科技有限公司 | D7: 华南装备园 | E7: 黄秀娟 | F7: =VLOOKUP(B7,火炬统计企业统计人员奖励!$B$4:$E$155,5,0) -> #REF! | K7: =VLOOKUP(B7,火炬统计企业统计人员奖励!$B$4:$E$155,6,0) -> #REF! | L7: =VLOOKUP(B7,火炬统计企业统计人员奖励!$B$4:$E$155,7,0) -> #REF! | M7: =VLOOKUP(B7,火炬统计企业统计人员奖励!$B$4:$E$155,8,0) -> #REF! | N7: =VLOOKUP(B7,火炬统计企业统计人员奖励!$B$4:$E$155,9,0) -> #REF! | O7: =VLOOKUP(B7,火炬统计企业统计人员奖励!$B$4:$E$155,10,0) -> #REF! | P7: =E7=F7 -> #REF! | Q7: =VLOOKUP(B7,火炬统计企业统计人员奖励!$B$4:$E$155,3,0) -> 华南装备园 | R7: =D7=Q7 -> TRUE
A8: 4 | B8: 91440200MA4X380102 | C8: 广东金志利科技股份有限公司 | D8: 华南装备园 | E8: 罗玉敏 | F8: =VLOOKUP(B8,火炬统计企业统计人员奖励!$B$4:$E$155,5,0) -> #REF! | K8: =VLOOKUP(B8,火炬统计企业统计人员奖励!$B$4:$E$155,6,0) -> #REF! | L8: =VLOOKUP(B8,火炬统计企业统计人员奖励!$B$4:$E$155,7,0) -> #REF! | M8: =VLOOKUP(B8,火炬统计企业统计人员奖励!$B$4:$E$155,8,0) -> #REF! | N8: =VLOOKUP(B8,火炬统计企业统计人员奖励!$B$4:$E$155,9,0) -> #REF! | O8: =VLOOKUP(B8,火炬统计企业统计人员奖励!$B$4:$E$155,10,0) -> #REF! | P8: =E8=F8 -> #REF! | Q8: =VLOOKUP(B8,火炬统计企业统计人员奖励!$B$4:$E$155,3,0) -> 华南装备园 | R8: =D8=Q8 -> TRUE
A9: 5 | B9: 91440200MA55TRW22D | C9: 广东钜拓智能装备有限公司 | D9: 华南装备园 | E9: 刘少丽 | F9: =VLOOKUP(B9,火炬统计企业统计人员奖励!$B$4:$E$155,5,0) -> #REF! | K9: =VLOOKUP(B9,火炬统计企业统计人员奖励!$B$4:$E$155,6,0) -> #REF! | L9: =VLOOKUP(B9,火炬统计企业统计人员奖励!$B$4:$E$155,7,0) -> #REF! | M9: =VLOOKUP(B9,火炬统计企业统计人员奖励!$B$4:$E$155,8,0) -> #REF! | N9: =VLOOKUP(B9,火炬统计企业统计人员奖励!$B$4:$E$155,9,0) -> #REF! | O9: =VLOOKUP(B9,火炬统计企业统计人员奖励!$B$4:$E$155,10,0) -> #REF! | P9: =E9=F9 -> #REF! | Q9: =VLOOKUP(B9,火炬统计企业统计人员奖励!$B$4:$E$155,3,0) -> 华南装备园 | R9: =D9=Q9 -> TRUE
A10: 6 | B10: 91440200MA55MA0B87 | C10: 广东君浦五金制品有限公司 | D10: 华南装备园 | E10: 肖八凤 | F10: =VLOOKUP(B10,火炬统计企业统计人员奖励!$B$4:$E$155,5,0) -> #REF! | K10: =VLOOKUP(B10,火炬统计企业统计人员奖励!$B$4:$E$155,6,0) -> #REF! | L10: =VLOOKUP(B10,火炬统计企业统计人员奖励!$B$4:$E$155,7,0) -> #REF! | M10: =VLOOKUP(B10,火炬统计企业统计人员奖励!$B$4:$E$155,8,0) -> #REF! | N10: =VLOOKUP(B10,火炬统计企业统计人员奖励!$B$4:$E$155,9,0) -> #REF! | O10: =VLOOKUP(B10,火炬统计企业统计人员奖励!$B$4:$E$155,10,0) -> #REF! | P10: =E10=F10 -> #REF! | Q10: =VLOOKUP(B10,火炬统计企业统计人员奖励!$B$4:$E$155,3,0) -> 华南装备园 | R10: =D10=Q10 -> TRUE
A11: 7 | B11: 91440200MA57364G1A | C11: 广东明阳智慧能源有限公司 | D11: 华南装备园 | E11: 莫淋 | F11: =VLOOKUP(B11,火炬统计企业统计人员奖励!$B$4:$E$155,5,0) -> #REF! | K11: =VLOOKUP(B11,火炬统计企业统计人员奖励!$B$4:$E$155,6,0) -> #REF! | L11: =VLOOKUP(B11,火炬统计企业统计人员奖励!$B$4:$E$155,7,0) -> #REF! | M11: =VLOOKUP(B11,火炬统计企业统计人员奖励!$B$4:$E$155,8,0) -> #REF! | N11: =VLOOKUP(B11,火炬统计企业统计人员奖励!$B$4:$E$155,9,0) -> #REF! | O11: =VLOOKUP(B11,火炬统计企业统计人员奖励!$B$4:$E$155,10,0) -> #REF! | P11: =E11=F11 -> #REF! | Q11: =VLOOKUP(B11,火炬统计企业统计人员奖励!$B$4:$E$155,3,0) -> 华南装备园 | R11: =D11=Q11 -> TRUE
A12: 8 | B12: 91440200MA4X9X9G1X | C12: 广东韶铸精密机械有限公司 | D12: 华南装备园 | E12: 吕翠碧 | F12: =VLOOKUP(B12,火炬统计企业统计人员奖励!$B$4:$E$155,5,0) -> #REF! | K12: =VLOOKUP(B12,火炬统计企业统计人员奖励!$B$4:$E$155,6,0) -> #REF! | L12: =VLOOKUP(B12,火炬统计企业统计人员奖励!$B$4:$E$155,7,0) -> #REF! | M12: =VLOOKUP(B12,火炬统计企业统计人员奖励!$B$4:$E$155,8,0) -> #REF! | N12: =VLOOKUP(B12,火炬统计企业统计人员奖励!$B$4:$E$155,9,0) -> #REF! | O12: =VLOOKUP(B12,火炬统计企业统计人员奖励!$B$4:$E$155,10,0) -> #REF! | P12: =E12=F12 -> #REF! | Q12: =VLOOKUP(B12,火炬统计企业统计人员奖励!$B$4:$E$155,3,0) -> 华南装备园 | R12: =D12=Q12 -> TRUE
A13: 9 | B13: 91440200MA53AXM978 | C13: 广东申力金属制品有限公司 | D13: 华南装备园 | E13: 陈秀珍 | F13: =VLOOKUP(B13,火炬统计企业统计人员奖励!$B$4:$E$155,5,0) -> #REF! | K13: =VLOOKUP(B13,火炬统计企业统计人员奖励!$B$4:$E$155,6,0) -> #REF! | L13: =VLOOKUP(B13,火炬统计企业统计人员奖励!$B$4:$E$155,7,0) -> #REF! | M13: =VLOOKUP(B13,火炬统计企业统计人员奖励!$B$4:$E$155,8,0) -> #REF! | N13: =VLOOKUP(B13,火炬统计企业统计人员奖励!$B$4:$E$155,9,0) -> #REF! | O13: =VLOOKUP(B13,火炬统计企业统计人员奖励!$B$4:$E$155,10,0) -> #REF! | P13: =E13=F13 -> #REF! | Q13: =VLOOKUP(B13,火炬统计企业统计人员奖励!$B$4:$E$155,3,0) -> 华南装备园 | R13: =D13=Q13 -> TRUE
A14: 10 | B14: 91440200MA55R8UK4W | C14: 广东省尚辉重钢有限公司 | D14: 华南装备园 | E14: 黎卓芳 | F14: =VLOOKUP(B14,火炬统计企业统计人员奖励!$B$4:$E$155,5,0) -> #REF! | K14: =VLOOKUP(B14,火炬统计企业统计人员奖励!$B$4:$E$155,6,0) -> #REF! | L14: =VLOOKUP(B14,火炬统计企业统计人员奖励!$B$4:$E$155,7,0) -> #REF! | M14: =VLOOKUP(B14,火炬统计企业统计人员奖励!$B$4:$E$155,8,0) -> #REF! | N14: =VLOOKUP(B14,火炬统计企业统计人员奖励!$B$4:$E$155,9,0) -> #REF! | O14: =VLOOKUP(B14,火炬统计企业统计人员奖励!$B$4:$E$155,10,0) -> #REF! | P14: =E14=F14 -> #REF! | Q14: =VLOOKUP(B14,火炬统计企业统计人员奖励!$B$4:$E$155,3,0) -> 华南装备园 | R14: =D14=Q14 -> TRUE
A15: 11 | B15: 91441900MA512MY8X2 | C15: 广东思奥智能科技有限公司 | D15: 华南装备园 | E15: 陈玲 | F15: =VLOOKUP(B15,火炬统计企业统计人员奖励!$B$4:$E$155,5,0) -> #REF! | K15: =VLOOKUP(B15,火炬统计企业统计人员奖励!$B$4:$E$155,6,0) -> #REF! | L15: =VLOOKUP(B15,火炬统计企业统计人员奖励!$B$4:$E$155,7,0) -> #REF! | M15: =VLOOKUP(B15,火炬统计企业统计人员奖励!$B$4:$E$155,8,0) -> #REF! | N15: =VLOOKUP(B15,火炬统计企业统计人员奖励!$B$4:$E$155,9,0) -> #REF! | O15: =VLOOKUP(B15,火炬统计企业统计人员奖励!$B$4:$E$155,10,0) -> #REF! | P15: =E15=F15 -> #REF! | Q15: =VLOOKUP(B15,火炬统计企业统计人员奖励!$B$4:$E$155,3,0) -> 华南装备园 | R15: =D15=Q15 -> TRUE
A16: 12 | B16: 91440200MA56C90YXH | C16: 广东义同智能装备有限公司 | D16: 华南装备园 | E16: 刘石英 | F16: =VLOOKUP(B16,火炬统计企业统计人员奖励!$B$4:$E$155,5,0) -> #REF! | K16: =VLOOKUP(B16,火炬统计企业统计人员奖励!$B$4:$E$155,6,0) -> #REF! | L16: =VLOOKUP(B16,火炬统计企业统计人员奖励!$B$4:$E$155,7,0) -> #REF! | M16: =VLOOKUP(B16,火炬统计企业统计人员奖励!$B$4:$E$155,8,0) -> #REF! | N16: =VLOOKUP(B16,火炬统计企业统计人员奖励!$B$4:$E$155,9,0) -> #REF! | O16: =VLOOKUP(B16,火炬统计企业统计人员奖励!$B$4:$E$155,10,0) -> #REF! | P16: =E16=F16 -> #REF! | Q16: =VLOOKUP(B16,火炬统计企业统计人员奖励!$B$4:$E$155,3,0) -> 华南装备园 | R16: =D16=Q16 -> TRUE
... A168: 164 | B168: 91440204MA56PGFD36 | C168: 韶关英克瑞斯新材料有限公司 | D168: 浈江园 | E168: 马结华 | F168: =VLOOKUP(B168,火炬统计企业统计人员奖励!$B$4:$E$155,5,0) -> #REF! | K168: =VLOOKUP(B168,火炬统计企业统计人员奖励!$B$4:$E$155,6,0) -> #REF! | L168: =VLOOKUP(B168,火炬统计企业统计人员奖励!$B$4:$E$155,7,0) -> #REF! | M168: =VLOOKUP(B168,火炬统计企业统计人员奖励!$B$4:$E$155,8,0) -> #REF! | N168: =VLOOKUP(B168,火炬统计企业统计人员奖励!$B$4:$E$155,9,0) -> #REF! | O168: =VLOOKUP(B168,火炬统计企业统计人员奖励!$B$4:$E$155,10,0) -> #REF! | P168: =E168=F168 -> #REF! | Q168: =VLOOKUP(B168,火炬统计企业统计人员奖励!$B$4:$E$155,3,0) -> 浈江园 | R168: =D168=Q168 -> TRUE

Sheet 核定汇总表
A1: 2026年韶关高新区科技创新扶持奖励资金核定汇总表
A2: 序号 | B2: 统一信用代码 | C2: 企业名称 | D2: 1.新认定高企（重新认定） | E2: 2.首次认定的高新技术企业认定次年主营业务收入 | F2: 3.瞪羚企业 | G2: 7.承担国家重点研发计划或省重点领域研发计划 | H2: 8.参与标准制修订 | I2: 9.新获批发明专利 | J2: 13.技术合同 | K2: 14.发明专利成果转化 | L2: 16.培育高企、瞪羚企业 | M2: 18.科技信贷贴息 | N2: 21.首次新引进博士 | O2: 26.自主研发平台（免申即享） | P2: 29.开展产业类检验检测 | Q2: 总计（万元）
A3: 1 | B3: 91440200MA51BKDY2B | C3: 韶关市精拓自动化设备有限公司 | D3: 5 | I3: 0.5 | Q3: 5.5
A4: 2 | B4: 91440200MA525P775U | C4: 韶关市洁盟超声科技有限公司 | D4: 5 | I4: 0.5 | M4: 4.3125 | Q4: 9.8125
A5: 3 | B5: 914402006981660604 | C5: 韶关市汇建水泥制品有限公司 | D5: 5 | H5: 5 | I5: 0.5 | K5: 10 | P5: 1.1356 | Q5: 21.6356
A6: 4 | B6: 91440204MA55HGMC5C | C6: 韶关市天晟环保服务有限公司 | D6: 5 | Q6: 5
A7: 5 | B7: 91440200MAC70H3E5J | C7: 韶关市利运格电子有限公司 | D7: 5 | Q7: 5
A8: 6 | B8: 91440204MA54A52274 | C8: 泓安教育科技（韶关）有限公司 | D8: 5 | Q8: 5
A9: 7 | B9: 91440200MA56H88G8Y | C9: 广东韶华科技有限公司 | D9: 5 | Q9: 5
A10: 8 | B10: 91440200MA55Y7195H | C10: 广东韶佳建设工程有限公司 | D10: 5 | Q10: 5
A11: 9 | B11: 91440200MA4UQDBX9T | C11: 广东鑫三江电气设备有限公司 | D11: 5 | Q11: 5
A12: 10 | B12: 91440200MA545F9H4R | C12: 广东行知天下网络科技有限公司 | D12: 5 | K12: 5.6008 | Q12: 10.6008
A13: 11 | B13: 91440200MA51E79F2M | C13: 广东萱嘉医品健康科技有限公司 | D13: 5 | F13: 10 | M13: 2.5575 | Q13: 17.5575
A14: 12 | B14: 91440204MA54P91J21 | C14: 广东绿优鲜宝农业科技有限公司 | D14: 5 | Q14: 5
A15: 13 | B15: 91440200698165965F | C15: 广东立全智造阀片有限公司 | D15: 5 | Q15: 5
A16: 14 | B16: 91440203MA52EAY40Y | C16: 广东环凯生物技术有限公司 | D16: 5 | G16: 12 | I16: 0.5 | O16: 20 | Q16: 37.5
A17: 15 | B17: 91440200MACQ2N2K28 | C17: 广东泰豪数能技术有限公司 | D17: 5 | Q17: 5
A18: 16 | B18: 91441900334919068R | C18: 广东正瑞光学科技有限公司 | D18: 5 | Q18: 5
A19: 17 | B19: 91440200337880146U | C19: 广东明业信息科技有限公司 | D19: 5 | Q19: 5
A20: 18 | B20: 91440200584741258W | C20: 广东新科农生物科技有限公司 | D20: 5 | I20: 0.5 | K20: 6.56 | P20: 0.44 | Q20: 12.5
A21: 19 | B21: 91440200MA55YDEG1H | C21: 广东信拓网络安全科技有限公司 | D21: 5 | Q21: 5
A22: 20 | B22: 91440200MA7ND3BR03 | C22: 广东信拓人工智能研究院有限公司 | D22: 5 | I22: 0.5 | K22: 8.677 | Q22: 14.177
A23: 21 | B23: 914402000954409484 | C23: 广东乾佳乐生物科技有限公司 | D23: 5 | Q23: 5
A24: 22 | B24: 91440200MACCM1YB91 | C24: 广东中科华微生物科技有限公司 | D24: 5 | I24: 0.5 | Q24: 5.5
A25: 23 | B25: 91440200785795287D | C25: 韶关市西马克液压缸有限公司 | I25: 0.5 | Q25: 0.5
A26: 24 | B26: 91440203MA531C5763 | C26: 广东博沃特生物技术有限公司 | I26: 2.5 | O26: 10 | Q26: 12.5
A27: 25 | B27: 91440200MABQ4QB978 | C27: 韶关益晟康电子科技有限公司 | E27: 15 | I27: 0.5 | K27: 10 | Q27: 25.5
A28: 26 | B28: 91440203MA548NEY3M | C28: 韶关朗圣药业有限公司 | I28: 1 | Q28: 1
A29: 27 | B29: 9144020079462253XT | C29: 韶关核力重工机械有限公司 | I29: 0.5 | Q29: 0.5
A30: 28 | B30: 91440204MA4UTCKN80 | C30: 韶关市天厚网络科技有限公司 | I30: 0.5 | K30: 6.9854 | M30: 0.364 | Q30: 7.8494
A31: 29 | B31: 914402001915491692 | C31: 韶关市凯迪技术开发有限公司 | I31: 0.5 | Q31: 0.5
A32: 30 | B32: 91440200MA54FH9H4M | C32: 韶关市星橙网络科技有限公司 | K32: 10 | M32: 1.9089 | Q32: 11.9089
A33: 31 | B33: 9144020408259688XD | C33: 广东信拓网络科技有限公司 | F33: 20 | I33: 0.5 | K33: 10 | M33: 3.3945 | O33: 5 | Q33: 38.8945
A34: 32 | B34: 914402001915226953 | C34: 韶关液压件厂有限公司 | H34: 10 | I34: 0.5 | K34: 10 | M34: 4.5301 | P34: 1.6079 | Q34: 26.638
A35: 33 | B35: 91440200MA51C8EH2U | C35: 广东云舜综合能源科技有限公司 | M35: 2.1387 | P35: 0.329 | Q35: 2.4677
A36: 34 | B36: 91440200MA4ULRAX3A | C36: 广东韶科环保科技有限公司 | J36: 2 | P36: 7.2842 | Q36: 9.2842
A37: 35 | B37: 91440200MA52781395 | C37: 广东成蔚电子科技有限公司 | I37: 1.5 | Q37: 1.5
A38: 36 | B38: 9144020019155323XY | C38: 广东宏大传动有限公司（曾用名：韶能集团韶关宏大齿轮有限公司） | P38: 1.2173 | Q38: 1.2173
A39: 37 | B39: 91440200617451952H | C39: 韶关东南轴承有限公司 | I39: 1 | O39: 10 | P39: 0.1804 | Q39: 11.1804
A40: 38 | B40: 91440232MA56KK267R | C40: 广东数字生态科技有限责任公司 | M40: 4.4589 | Q40: 4.4589
A41: 39 | B41: 91440200555570170B | C41: 广东欧莱高新材料股份有限公司 | H41: 5 | I41: 2 | N41: 4 | P41: 0.252 | Q41: 11.252
A42: 40 | B42: 9144020019155147X0 | C42: 广东丹霞生物制药有限公司 | I42: 0.5 | Q42: 0.5
A43: 41 | B43: 91440200586380820W | C43: 广东莱雅新化工科技有限公司 | M43: 1.1074 | O43: 20 | Q43: 21.1074
A44: 42 | B44: 91440200095699765E | C44: 韶关市合众化工有限公司 | I44: 1.5 | Q44: 1.5
A45: 43 | B45: 91440204MA56PGFD36 | C45: 韶关英克瑞斯新材料有限公司 | D45: 5 | Q45: 5
A46: 44 | B46: 91440200696496082Y | C46: 韶关比亚迪实业有限公司 | D46: 5 | Q46: 5
A47: 45 | B47: 91440204MA5742JB06 | C47: 韶关市恒建智能工程有限公司 | D47: 5 | Q47: 5
A48: 46 | B48: 914402006649809539 | C48: 韶关市中机重工有限责任公司 | D48: 5 | P48: 5.8909 | Q48: 10.8909
A49: 47 | B49: 91440200056848107H | C49: 广东光华永盛科技有限公司 | D49: 5 | Q49: 5
A50: 48 | B50: 91440200MA4ULUGMX3 | C50: 广东中金岭南环保工程有限公司 | D50: 5 | P50: 0.97 | Q50: 5.97
A51: 49 | B51: 914402007304561304 | C51: 韶关市新弘立冶金实业有限公司 | M51: 1.519 | Q51: 1.519
A52: 50 | B52: 91440203MA53YT5G62 | C52: 信拓产业互联科技（韶关）有限公司 | L52: 8 | Q52: 8
A53: 51 | B53: 91440200560875024U | C53: 广东磊蒙重型机械制造有限公司 | I53: 1.5 | Q53: 1.5
C54: 合计 | Q54: 437.922
C55: 统计人员 | Q55: 12.16
C56: 总计 | Q56: =SUM(Q54:Q55) -> 450.082

Sheet 火炬统计企业统计人员奖励
A2: 2026年韶关高新区火炬统计纳统企业统计人员奖励名单
A3: 序号 | B3: 统一信用代码 | C3: 企业名称 | D3: 所属园区 | E3: 申报人 | F3: 总计（万元）
A4: 1 | B4: 91440200MA4ULXU4XE | C4: 广东天原施莱特新材料有限公司 | D4: 沐溪阳山 | E4: 陈子娇 | F4: 0.08
A5: 2 | B5: 91440200MA51JM1D3D | C5: 韶关一本机械设备有限公司 | D5: 华南装备园 | E5: 胡令群 | F5: 0.08
A6: 3 | B6: 91440200MA534C8470 | C6: 韶关市成钢金属科技有限公司 | D6: 华南装备园 | E6: 黄馨卉 | F6: 0.08
A7: 4 | B7: 914402055989189663 | C7: 韶关市曲江宏创钢管有限公司 | D7: 曲江经济开发区 | E7: 李杰 | F7: 0.08
A8: 5 | B8: 91440221MA548WAR5D | C8: 韶关市骐凯金属科技有限公司 | D8: 华南装备园 | E8: 韩雪英 | F8: 0.08
A9: 6 | B9: 9144020574365518XX | C9: 广东宏德钢铁集团有限公司 | D9: 曲江经济开发区 | E9: 周靖 | F9: 0.08
A10: 7 | B10: 91440200MACCM1YB91 | C10: 广东中科华微生物科技有限公司 | D10: 沐溪阳山 | E10: 潘莎俪 | F10: 0.08
A11: 8 | B11: 91440200MA52P6PL18 | C11: 广东国宏工程检测有限公司 | D11: 沐溪阳山 | E11: 李桂宏 | F11: 0.08
A12: 9 | B12: 91440200MA55TRW22D | C12: 广东钜拓智能装备有限公司 | D12: 华南装备园 | E12: 刘少丽 | F12: 0.08
A13: 10 | B13: 91440205698144435H | C13: 韶关市曲江金扬耐磨材料有限公司 | D13: 曲江经济开发区 | E13: 胡翠华 | F13: 0.08
A14: 11 | B14: 91440203MA526YP96H | C14: 上海电气研砼源昊（韶关）重工科技有限公司 | D14: 沐溪阳山 | E14: 王志恒 | F14: 0.08
A15: 12 | B15: 91440200MA51L0NY67 | C15: 勤望（韶关）金属科技有限公司 | D15: 华南装备园 | E15: 杨佳菊 | F15: 0.08
... A155: 152 | B155: 91440200725067093F | C155: 韶关市铁友建设机械有限公司 | D155: 武江科技园 | E155: 曾彩红 | F155: 0.08
